BEGIN:VCALENDAR
VERSION:2.0
PRODID:-//Reclaim the Power - ECPv6.15.20//NONSGML v1.0//EN
CALSCALE:GREGORIAN
METHOD:PUBLISH
X-WR-CALNAME:Reclaim the Power
X-ORIGINAL-URL:https://reclaimthepower.org.uk
X-WR-CALDESC:Events for Reclaim the Power
REFRESH-INTERVAL;VALUE=DURATION:PT1H
X-Robots-Tag:noindex
X-PUBLISHED-TTL:PT1H
BEGIN:VTIMEZONE
TZID:Europe/London
BEGIN:DAYLIGHT
TZOFFSETFROM:+0000
TZOFFSETTO:+0100
TZNAME:BST
DTSTART:20230326T010000
END:DAYLIGHT
BEGIN:STANDARD
TZOFFSETFROM:+0100
TZOFFSETTO:+0000
TZNAME:GMT
DTSTART:20231029T010000
END:STANDARD
BEGIN:DAYLIGHT
TZOFFSETFROM:+0000
TZOFFSETTO:+0100
TZNAME:BST
DTSTART:20240331T010000
END:DAYLIGHT
BEGIN:STANDARD
TZOFFSETFROM:+0100
TZOFFSETTO:+0000
TZNAME:GMT
DTSTART:20241027T010000
END:STANDARD
BEGIN:DAYLIGHT
TZOFFSETFROM:+0000
TZOFFSETTO:+0100
TZNAME:BST
DTSTART:20250330T010000
END:DAYLIGHT
BEGIN:STANDARD
TZOFFSETFROM:+0100
TZOFFSETTO:+0000
TZNAME:GMT
DTSTART:20251026T010000
END:STANDARD
END:VTIMEZONE
BEGIN:VEVENT
DTSTART;TZID=Europe/London:20240224T100000
DTEND;TZID=Europe/London:20240225T170000
DTSTAMP:20260424T043056
CREATED:20240213T193513Z
LAST-MODIFIED:20240217T152134Z
UID:7706-1708768800-1708880400@reclaimthepower.org.uk
SUMMARY:York National Gathering
DESCRIPTION:Reclaim the Power have their next gathering from 24th to 25th Feb 2024. The exact location of the gathering will be emailed to you a week before. The nearest station is York station which it is a short walk away (5-10 mins). \nWe are focusing on Drax\, with a planned mass action camp on 8th-13th August 2024. The gathering will be focusing on decisions on the run up to the camp\, and is aimed for new people who have never come to anything in RtP as well as those who have been here for years. In short\, all are welcome. \nWho are Reclaim the Power?\nReclaim the Power is a UK based direct action network fighting for social\, environmental and economic justice. We aim to build a broad based movement\, working in solidarity with frontline communities to effectively confront environmentally destructive industries and the social and economic forces driving climate change. \nWhat is Drax?\nDrax is a wood biomass power station located near Selby\, in Yorkshire. It is a former coal-power station that converted to biomass\, and now entirely burns wood biomass. Drax is the UKs single largest carbon emitter and world’s biggest tree burner. Their actions have been repeatedly linked to driving environmental racism and causing huge amounts of harm to communities\, forests and biodiversity. \nWhat is a gathering?\nWe organise two-day national gatherings to make collective decisions.  These are held at different towns and cities across the country. We use them to make important decisions\, but they also serve as spaces for learning\, developing skills and getting to know people. \nAll our gatherings provide crash space\, childcare\, and cheap and vegan food. All our meeting venues are wheelchair accessible. \nWe try to make our gatherings as inclusive as possible for newcomers\, including the use of a friendly “buddy” system\, so don’t worry if you’ve never been to anything like this before! \n  \n 
URL:https://reclaimthepower.org.uk/event/york-gathering/
LOCATION:Near York Station\, York Station\, York\, YO24 1AB\, United Kingdom
ATTACH;FMTTYPE=image/png:https://reclaimthepower.org.uk/wp-content/uploads/2023/12/Copy-of-York-Gathering-Feb-2024-Insta-Post.png
END:VEVENT
END:VCALENDAR