BEGIN:VCALENDAR
VERSION:2.0
PRODID:-//Reclaim the Power - ECPv6.15.20//NONSGML v1.0//EN
CALSCALE:GREGORIAN
METHOD:PUBLISH
X-WR-CALNAME:Reclaim the Power
X-ORIGINAL-URL:https://reclaimthepower.org.uk
X-WR-CALDESC:Events for Reclaim the Power
REFRESH-INTERVAL;VALUE=DURATION:PT1H
X-Robots-Tag:noindex
X-PUBLISHED-TTL:PT1H
BEGIN:VTIMEZONE
TZID:Europe/London
BEGIN:DAYLIGHT
TZOFFSETFROM:+0000
TZOFFSETTO:+0100
TZNAME:BST
DTSTART:20230326T010000
END:DAYLIGHT
BEGIN:STANDARD
TZOFFSETFROM:+0100
TZOFFSETTO:+0000
TZNAME:GMT
DTSTART:20231029T010000
END:STANDARD
BEGIN:DAYLIGHT
TZOFFSETFROM:+0000
TZOFFSETTO:+0100
TZNAME:BST
DTSTART:20240331T010000
END:DAYLIGHT
BEGIN:STANDARD
TZOFFSETFROM:+0100
TZOFFSETTO:+0000
TZNAME:GMT
DTSTART:20241027T010000
END:STANDARD
BEGIN:DAYLIGHT
TZOFFSETFROM:+0000
TZOFFSETTO:+0100
TZNAME:BST
DTSTART:20250330T010000
END:DAYLIGHT
BEGIN:STANDARD
TZOFFSETFROM:+0100
TZOFFSETTO:+0000
TZNAME:GMT
DTSTART:20251026T010000
END:STANDARD
END:VTIMEZONE
BEGIN:VEVENT
DTSTART;TZID=Europe/London:20240802T180000
DTEND;TZID=Europe/London:20240802T190000
DTSTAMP:20260421T103528
CREATED:20240802T143509Z
LAST-MODIFIED:20240802T143743Z
UID:8086-1722621600-1722625200@reclaimthepower.org.uk
SUMMARY:Camp Breifing Call
DESCRIPTION:In less than two weeks time\, hundreds of people from across the country will come together in a climate camp targeting Drax\, the world’s biggest tree burner\, the UK’s biggest carbon emitter and fueller of environmental racism around the world. \nIf you are thinking of attending and want more practical information\, this briefing call is the best place to go!\n\nWe will cover:\n\n\nWhy we are having a camp in the first place\nKey information on the dates & location of the camp\nWhat to bring (kit list)\nTravel information\nWhat to expect when you get there\nThe Camp Programme\nAccessibility\nReclaim the Power’s Principles\nCommunication & decision-making at camp\nLegal information\nWhat to expect on Action Day\nSecurity at camp\, including phones & tech\nHow to join a Working Group or take on a role at camp\nFAQs\n\nThere will also be time for any questions you have.\nAs always\, if you have any questions before then\, email us at info@reclaimthepower.org.uk
URL:https://reclaimthepower.org.uk/event/camp-breifing-call/
LOCATION:Online
CATEGORIES:Briefing Call
ATTACH;FMTTYPE=image/jpeg:https://reclaimthepower.org.uk/wp-content/uploads/2019/07/Credit-Aurelia-Bergs-1.jpg
END:VEVENT
END:VCALENDAR