BEGIN:VCALENDAR
VERSION:2.0
PRODID:-//Reclaim the Power - ECPv6.15.20//NONSGML v1.0//EN
CALSCALE:GREGORIAN
METHOD:PUBLISH
X-WR-CALNAME:Reclaim the Power
X-ORIGINAL-URL:https://reclaimthepower.org.uk
X-WR-CALDESC:Events for Reclaim the Power
REFRESH-INTERVAL;VALUE=DURATION:PT1H
X-Robots-Tag:noindex
X-PUBLISHED-TTL:PT1H
BEGIN:VTIMEZONE
TZID:Europe/London
BEGIN:DAYLIGHT
TZOFFSETFROM:+0000
TZOFFSETTO:+0100
TZNAME:BST
DTSTART:20240331T010000
END:DAYLIGHT
BEGIN:STANDARD
TZOFFSETFROM:+0100
TZOFFSETTO:+0000
TZNAME:GMT
DTSTART:20241027T010000
END:STANDARD
BEGIN:DAYLIGHT
TZOFFSETFROM:+0000
TZOFFSETTO:+0100
TZNAME:BST
DTSTART:20250330T010000
END:DAYLIGHT
BEGIN:STANDARD
TZOFFSETFROM:+0100
TZOFFSETTO:+0000
TZNAME:GMT
DTSTART:20251026T010000
END:STANDARD
BEGIN:DAYLIGHT
TZOFFSETFROM:+0000
TZOFFSETTO:+0100
TZNAME:BST
DTSTART:20260329T010000
END:DAYLIGHT
BEGIN:STANDARD
TZOFFSETFROM:+0100
TZOFFSETTO:+0000
TZNAME:GMT
DTSTART:20261025T010000
END:STANDARD
END:VTIMEZONE
BEGIN:VEVENT
DTSTART;VALUE=DATE:20250922
DTEND;VALUE=DATE:20250923
DTSTAMP:20260424T030900
CREATED:20250808T094651Z
LAST-MODIFIED:20250918T140408Z
UID:8350-1758499200-1758585599@reclaimthepower.org.uk
SUMMARY:Support the Drax 15 | 22nd & 29th September | Leeds
DESCRIPTION:Support the 15 defendants at Leeds Magistrates court on Monday 22 September and Monday 29 September\n❤️Support the Drax 15 defendants\nSupport our rights to peaceful protest\nSupport front-line and affected communities in Gloster\, Mississippi \nThe trial – quick recap\nLast summer\, as far right violence spread across the country\, the police chose to spend millions preventing a peaceful climate camp focusing on Drax from going ahead. Of the 25 people who were pre-emptively arrested\, 15 have been charged with ‘going equipped to lock on’ and will stand trial at Leeds Magistrates Court this autumn\, starting on 22 September and expected to last until 2nd October. \nThe 15 protesters were arrested preemptively\, whilst planning a peaceful protest camp against Drax\, the UK’s single largest carbon emitter – now emitting more than the next four largest UK polluters combined and more than the six most carbon-intensive gas power plants put together. \nThis is part of an escalating pattern of state repression\, silencing of peaceful protest and distracting attention from the real harms our government is complicit in. \nJoin us in Leeds to stand in solidarity with the Drax 15 and to show Drax we will continue to exercise our right to peaceful protest and speak out about their dirty tricks. \nThe Drax 15: in solidarity with affected communities resisting environmental and health injustices\nDrax power station in North Yorkshire burns wood pellets shipped from Mississippi in the U.S. Trees are milled and processed at the Drax plant in Gloster\, Mississippi\, creating significant local air pollution\, before being burnt in the UK. \nDrax has multiple times been fined for air pollution violations: $2.5 million in 2020 —one of the largest air-pollution fines in state history —and again last year for emitting more than 50% of its permitted limit of toxic chemical pollutants. \nThe Drax 15 stand in solidarity with Greater Greener Gloster\, a community response to local environmental and public health injustices related to the Drax Biomass facility in Gloster\, Mississippi which opened there in 2016. A recent community action took the residents of Gloster to state capital Jackson\, where they spoke against a Drax application to increase emissions limits. They won and Drax was denied any increases. Greater Greener Gloster seeks justice for the damages associated with the air pollution affecting the underserved community – watch their stories here. \nDetails and logistics\nChilled Sunday evening social in Leeds: Consider travelling to Leeds the Sunday before the trial starts (Sun 21st Sept) – we may be able to provide some limited crash space in Leeds but can’t confirm this yet. \nPlease join us outside the court for the first day of the trial on Monday 22 September from 09:00. We’ll be around all day and will have a collective moment at 12:00 noon if you can’t make it for first thing. We’ll be back at the same times on Monday 29 September. \nWe welcome anyone that is able to be present outside the court on any day of the trial in solidarity with the defendants\, so please do join us to support across any of the trial days if you are local to Leeds or aren’t able to join on Monday 22nd or Monday 29th Sept.
URL:https://reclaimthepower.org.uk/event/drax15trial/
LOCATION:Leeds Magistrates’ Court\, 1 Westgate\, Leeds\, LS1 3BE\, United Kingdom
CATEGORIES:Court Support
ATTACH;FMTTYPE=image/jpeg:https://reclaimthepower.org.uk/wp-content/uploads/2024/08/MPOPE_A686942-scaled.jpg
END:VEVENT
END:VCALENDAR